BEGIN:VCALENDAR
VERSION:2.0
PRODID:-//Climate Hive | Climate KIC Community Platform - ECPv6.15.15//NONSGML v1.0//EN
CALSCALE:GREGORIAN
METHOD:PUBLISH
X-WR-CALNAME:Climate Hive | Climate KIC Community Platform
X-ORIGINAL-URL:https://climate-hive.org/de
X-WR-CALDESC:Veranstaltungen für Climate Hive | Climate KIC Community Platform
REFRESH-INTERVAL;VALUE=DURATION:PT1H
X-Robots-Tag:noindex
X-PUBLISHED-TTL:PT1H
BEGIN:VTIMEZONE
TZID:Europe/London
BEGIN:DAYLIGHT
TZOFFSETFROM:+0000
TZOFFSETTO:+0100
TZNAME:BST
DTSTART:20250330T010000
END:DAYLIGHT
BEGIN:STANDARD
TZOFFSETFROM:+0100
TZOFFSETTO:+0000
TZNAME:GMT
DTSTART:20251026T010000
END:STANDARD
BEGIN:DAYLIGHT
TZOFFSETFROM:+0000
TZOFFSETTO:+0100
TZNAME:BST
DTSTART:20260329T010000
END:DAYLIGHT
BEGIN:STANDARD
TZOFFSETFROM:+0100
TZOFFSETTO:+0000
TZNAME:GMT
DTSTART:20261025T010000
END:STANDARD
BEGIN:DAYLIGHT
TZOFFSETFROM:+0000
TZOFFSETTO:+0100
TZNAME:BST
DTSTART:20270328T010000
END:DAYLIGHT
BEGIN:STANDARD
TZOFFSETFROM:+0100
TZOFFSETTO:+0000
TZNAME:GMT
DTSTART:20271031T010000
END:STANDARD
END:VTIMEZONE
BEGIN:VEVENT
DTSTART;TZID=Europe/London:20260226T170000
DTEND;TZID=Europe/London:20260226T200000
DTSTAMP:20260425T193652
CREATED:20260220T133607Z
LAST-MODIFIED:20260220T133613Z
UID:7099-1772125200-1772136000@climate-hive.org
SUMMARY:Agritech Innovation Night Germany - ClimAccelerator Demo Day
DESCRIPTION:Step into the future of sustainable agriculture at the Agritech Innovation Night Germany — hosted in the iconic Cinema Room at CIC Berlin. Yes\, you read that right: a cinema. Get your popcorn ready — this is a show worth watching! This is not just another startup evening — it’s where bold ideas in Agritech and climate innovation meet the people ready to take them to the next level.  \n\n\n\nHosted by Zukunft.Gründen Venture Studio\, this Agritech Innovation Night brings you a fast-paced showcase of the most promising solutions emerging from the Agritech ClimAccelerator\, organized with the support of Climate-KIC — Europe’s leading climate innovation agency driving systemic change. \n\n\n\n👩‍🌾 The Pitch Showcase\n\n\n\n8 early-stage Agritech startups will pitch live\, presenting climate-smart farming and digital agriculture solutions designed to transform the industry: \n\n\n\n\nAgrivero.AI\n\n\n\nAmpeloGhor\n\n\n\nCinSoil\n\n\n\nCosmoLabs\n\n\n\nMinus\n\n\n\nPlances\n\n\n\nTerraSight\n\n\n\nWAI Water Intelligence\n\n\n\n\n⚖️ The Investor Jury\n\n\n\nAfter each pitch\, our panel of seasoned investors and ecosystem experts will provide real-time feedback and industry insights. Joining the jury are: \n\n\n\n\nMax Eberwein (Brandes) – Investment Director\, Venture Investments\, Rentenbank\n\n\n\nTiago Morelli – Investment Team\, Better Ventures\n\n\n\nAlexandros Nikopoulos – Entrepreneurship Program Manager\, Climate-KIC\n\n\n\nCarla Erber – Entrepreneurship Program Manager\, Climate-KIC\n\n\n\n\n🤝 Networking & Community\n\n\n\nYou’ll be in great company with founders\, investors\, corporates\, and ecosystem leaders — all committed to transforming food and agriculture through bold\, scalable solutions. And it doesn’t end when the credits roll. After the pitches\, join us at the bar outside the cinema to continue the conversations\, meet the founders\, and build the connections that push change forward. This is more than a Demo Day. It’s a premiere of the future. If you care about the future of food\, farming\, and climate — you’ll want to be in the room. Don’t miss it. \n\n\n\nThis event is kindly sponsored by the FOSB\, YY Foundation\, and die Deutsche Postcode Lotterie.
URL:https://climate-hive.org/de/event/agritech-innovation-night-germany-climaccelerator-demo-day/
LOCATION:CIC Berlin\, Lohmühlenstraße 65\,\, Berlin\, 12435\, Germany
CATEGORIES:In-person,Networking,Organised by Member / Partner
ATTACH;FMTTYPE=image/jpeg:https://climate-hive.org/wp-content/uploads/2026/02/getty-images-LtToChCbuio-unsplash.jpg
END:VEVENT
END:VCALENDAR