BEGIN:VCALENDAR
VERSION:2.0
PRODID:-//Climate Hive | Climate KIC Community Platform - ECPv6.15.15//NONSGML v1.0//EN
CALSCALE:GREGORIAN
METHOD:PUBLISH
X-WR-CALNAME:Climate Hive | Climate KIC Community Platform
X-ORIGINAL-URL:https://climate-hive.org/de
X-WR-CALDESC:Veranstaltungen für Climate Hive | Climate KIC Community Platform
REFRESH-INTERVAL;VALUE=DURATION:PT1H
X-Robots-Tag:noindex
X-PUBLISHED-TTL:PT1H
BEGIN:VTIMEZONE
TZID:Europe/London
BEGIN:DAYLIGHT
TZOFFSETFROM:+0000
TZOFFSETTO:+0100
TZNAME:BST
DTSTART:20240331T010000
END:DAYLIGHT
BEGIN:STANDARD
TZOFFSETFROM:+0100
TZOFFSETTO:+0000
TZNAME:GMT
DTSTART:20241027T010000
END:STANDARD
BEGIN:DAYLIGHT
TZOFFSETFROM:+0000
TZOFFSETTO:+0100
TZNAME:BST
DTSTART:20250330T010000
END:DAYLIGHT
BEGIN:STANDARD
TZOFFSETFROM:+0100
TZOFFSETTO:+0000
TZNAME:GMT
DTSTART:20251026T010000
END:STANDARD
BEGIN:DAYLIGHT
TZOFFSETFROM:+0000
TZOFFSETTO:+0100
TZNAME:BST
DTSTART:20260329T010000
END:DAYLIGHT
BEGIN:STANDARD
TZOFFSETFROM:+0100
TZOFFSETTO:+0000
TZNAME:GMT
DTSTART:20261025T010000
END:STANDARD
END:VTIMEZONE
BEGIN:VEVENT
DTSTART;TZID=Europe/London:20251002T013000
DTEND;TZID=Europe/London:20251002T183000
DTSTAMP:20260426T030956
CREATED:20250923T092047Z
LAST-MODIFIED:20250924T143424Z
UID:4180-1759368600-1759429800@climate-hive.org
SUMMARY:CoLab: Accelerating blue & green economy in Europe’s coastal communities
DESCRIPTION:Join us for a workshop with experts\, industry leaders and public and private stakeholders and design with us new collaborations and practical opportunities to unlock the business potential in the blue and green economy for coastal aeras.\n\n\n\nEurope’s blue economy and coastal zones (communities\, cities\, regions and islands) make up an estimated 13% European landmass yet houses 40 % of Europe’s population and GDP\, making it a crucial pillar.  \n\n\n\nHowever\, climate change puts all of this is at risk. The challenges are numerous\, yet the economic gains are equally exponential. But we must act now! \n\n\n\nAgainst this background\, Climate KIC has started working with the Region of Sardinia\, in particular with its Innovation Agency Sardegna Ricerche through the Interreg project Nest4ESG. Together\, we support tasks and activities that foster innovation in the green and blue economy\, laying the groundwork for sustainable growth and systemic transformation in Sardinia and beyond. \n\n\n\nClimate KIC invites you to join us in Cagliari\, Italy on Thursday 2 October for an impactful Community Collaboration Laboratory (CoLab) focused on Accelerating Blue and Green Economy in coastal communities\, regions\, cities and territories. \n\n\n\nIn this Community CoLab\, we are inviting key stakeholders from public and private sectors\, marine and coastal industries\, environmental\, regional and local policymakers\, researchers\, and innovative entrepreneurs. Together\, we will seek to inspire while exploring new paths to foster sustainable development\, protect biodiversity\, and promote resilience in a changing climate. \n\n\n\nThe workshop is just the beginning. We’re kicking off a movement that brings together public and private players collaborating on practical opportunities to spark innovation and unlock new business potential in the blue and green economy. \n\n\n\nJoin us if you’re ready to future-proof your organisation and collaborate with like-minded organisations and innovators. \n\n\n\n\nRegister here\n\n\n\n\nAbout Climate KIC Community CoLabs\n\n\n\nClimate KIC is hosting four Collaboration Laboratories (CoLabs) in the fall of 2025. At our CoLabs we engage public and private stakeholders across value chains in our effort to connect climate demand with innovative business solutions. We’ll dive into a series of topics:   \n\n\n\n\nBeyond the legacy of Deep Demonstration Slovenia. Ljubljana (Slovenia)\, 11 September 2025\n\n\n\nAccelerating Blue & Green Economy in Europe’s Coastal Communities. Cagliari (Italy)\, 2 October 2025\n\n\n\nCommunity-led housing & sustainable transitions: The case of Barcelona. Barcelona (Catalonia\, Spain)\, 10 October 2025\n\n\n\nAdvancing green public-private partnerships: The case of Poland and beyond. Warsaw (Poland)\, 22 October 2025\n\n\n\n\nThe Community CoLabs are supported by the European Institute for Innovation and Technology (EIT)\, a body of the European Union. \n\n\n\n \n\n\n\nAbout Sardegna Ricerche and Enterprise Europe Network\n\n\n\nSardegna Ricerche is the Region of Sardinia’s Innovation Agency\, whose goals concern the promotion of research\, technology\, innovation\, the management of the Science and Technology Park\, as well as funding Sardinian enterprises and research via the ERDF. Sardegna Ricerche participates in several European-funded projects\, among these\, it is partner of the Enterprise Europe Network (EEN) since 2008. The Network support businesses and research organisms in their innovation paths\, their growth at international level and the creation of worldwide partnerships. It is the world’s largest support network for small and medium-sized enterprises (SMEs) with international ambitions.
URL:https://climate-hive.org/de/event/colab-accelerating-blue-green-economy-in-europes-coastal-communities/
CATEGORIES:Community Colab,Community event,In-person,Networking,Organised by Climate KIC
ATTACH;FMTTYPE=image/jpeg:https://climate-hive.org/wp-content/uploads/2025/09/robin-ulrich-C7fFMH2QmNg-unsplash-scaled.jpg
ORGANIZER;CN="Climate KIC Community":MAILTO:community@climate-kic.org
END:VEVENT
END:VCALENDAR