BEGIN:VCALENDAR
VERSION:2.0
PRODID:-//Climate Hive | Climate KIC Community Platform - ECPv6.15.15//NONSGML v1.0//EN
CALSCALE:GREGORIAN
METHOD:PUBLISH
X-WR-CALNAME:Climate Hive | Climate KIC Community Platform
X-ORIGINAL-URL:https://climate-hive.org/es
X-WR-CALDESC:Eventos para Climate Hive | Climate KIC Community Platform
REFRESH-INTERVAL;VALUE=DURATION:PT1H
X-Robots-Tag:noindex
X-PUBLISHED-TTL:PT1H
BEGIN:VTIMEZONE
TZID:Europe/London
BEGIN:DAYLIGHT
TZOFFSETFROM:+0000
TZOFFSETTO:+0100
TZNAME:BST
DTSTART:20240331T010000
END:DAYLIGHT
BEGIN:STANDARD
TZOFFSETFROM:+0100
TZOFFSETTO:+0000
TZNAME:GMT
DTSTART:20241027T010000
END:STANDARD
BEGIN:DAYLIGHT
TZOFFSETFROM:+0000
TZOFFSETTO:+0100
TZNAME:BST
DTSTART:20250330T010000
END:DAYLIGHT
BEGIN:STANDARD
TZOFFSETFROM:+0100
TZOFFSETTO:+0000
TZNAME:GMT
DTSTART:20251026T010000
END:STANDARD
BEGIN:DAYLIGHT
TZOFFSETFROM:+0000
TZOFFSETTO:+0100
TZNAME:BST
DTSTART:20260329T010000
END:DAYLIGHT
BEGIN:STANDARD
TZOFFSETFROM:+0100
TZOFFSETTO:+0000
TZNAME:GMT
DTSTART:20261025T010000
END:STANDARD
END:VTIMEZONE
BEGIN:VEVENT
DTSTART;TZID=Europe/London:20251010T093000
DTEND;TZID=Europe/London:20251010T150000
DTSTAMP:20260426T031335
CREATED:20250924T083735Z
LAST-MODIFIED:20251008T130652Z
UID:4209-1760088600-1760108400@climate-hive.org
SUMMARY:CoLab: Community-led housing and sustainable transitions
DESCRIPTION:European capitals are enduring a severe housing crisis that affects its inhabitants and climate. The EAA estimates that 75% Europeans lives in cities – increasing to 80% by 2050. Now\, 75% of those inhabitants lives in build environment that is energy inefficient. Furthermore\, rentals are soaring: OECD estimates that\, over the last decade\, the average rent has doubled in many European countries including Spain.   \n\n\n\nHowever\, in recent years\, cities like Barcelona have gained international momentum for an emerging model of public\, community-led partnerships. \n\n\n\nFor this Collaboration Lab (CoLab) on Friday 10 October and in partnership with holon\, we will explore such model by visiting two internationally awarded projects in Barcelona: La Borda and BLOC4. We’ll also discuss with key players of the local ecosystem how this transformation is happening in practice\, from green construction to finance and policies that promote the emergence of such locally led innovations.  \n\n\n\nThis CoLab is just the beginning. Over the coming three years\, Climate KIC Community\, will convene public and private stakeholders\, researchers and innovators to ignite a new movement to explore systemic climate solutions and collaborate to scale and pace their implementation.   \n\n\n\nJoin us if you’re ready to future-proof your organisation and collaborate with like-minded organisations and innovators.  \n\n\n\n\nREGISTER NOW\n\n\n\n\n \n\n\n\nAgenda\n\n\n\n9.30 – 10.00: Welcome & coffee at Bloc4   \n\n\n\nWith Adria Garcia I Mateu\, Holon & Magnus Harrison\, Climate KIC  \n\n\n\n10.00 – 11.00: Visit to La Borda   \n\n\n\n11.15 – 11.45: Visit to BLOC4  \n\n\n\n12.00 – 12.30: Keynote: The emerging Catalan community led housing model   \n\n\n\nWith Adrià Garcia I Mateu\, Partner at Holon & Designer involved in cooperative housing policy co-production processes  \n\n\n\n12.30 – 13.15: Round table discussions   \n\n\n\nBuilding sustainable and holistic buildings & communities   \n\n\n\nWith Cristina Gamboa\, Co-founder of Lacol\, professor and architect of La Borda and other housing cooperatives.   \n\n\n\nAdvancing Housing Policies for a just transition  \n\n\n\nWith Eduard Cabré Romans\, Housing policy consultant and advisor of Barcelona City Council & member of CitiES platform   \n\n\n\nInnovating Finance to benefit environment and social good  \n\n\n\nWith Blanca Rincon de Arellano\, Associate – City Finance Specialist at The Investment Bank for Earth\, Bankers without Boarders  \n\n\n\n13.15 – 13.45: Gathering of insights\, reflections & next steps  \n\n\n\nWith Adria Garcia I Mateu\, Holon & Magnus Harrison\, Climate KIC  \n\n\n\n13.45 – 15.00: Lunch and networking  \n\n\n\n \n\n\n\nAbout Climate KIC Community CoLabs\n\n\n\nClimate KIC is hosting four Collaboration Laboratories (CoLabs) in the fall of 2025.  At our CoLabs\, we engage public and private stakeholders across value chains in our effort to connect climate demand with innovative business solutions. We’ll dive into a series of topics: \n\n\n\n\nBeyond the legacy of Deep Demonstration Slovenia. Ljubljana (Slovenia)\, 11 September 2025\n\n\n\nAccelerating Blue & Green Economy in Europe’s Coastal Communities. Cagliari (Italy)\, 2 October 2025\n\n\n\nCommunity-led housing & sustainable transitions: The case of Barcelona. Barcelona (Catalonia\, Spain)\, 10 October 2025\n\n\n\nAdvancing green public-private partnerships: The case of Poland and beyond. Warsaw (Poland)\, 22 October 2025\n\n\n\n\nThe Community CoLabs are supported by the European Institute for Innovation and Technology (EIT)\, a body of the European Union. \n\n\n\n \n\n\n\nAbout Holon\n\n\n\nWe are research and design studio from Barcelona building community led futures. We have more than ten years of experience connecting the macro systemic dynamics of problems with the micro and material dimension of design solutions. We have been working with local and international public\, private and social organisations in a wide range of key sectors for just transitions such as housing\, energy\, food\, care or water among others.
URL:https://climate-hive.org/es/event/colab-community-led-housing-and-sustainable-transitions/
LOCATION:BLOC4\, Carrer de la Constitució\, 19\, Sants-Montjuïc\, Barcelona\, Spain\, Barcelona\, Catalonia\, 08014\, Spain
CATEGORIES:Community Colab,Community event,In-person,Networking,Organised by Climate KIC,Policy
ATTACH;FMTTYPE=image/jpeg:https://climate-hive.org/wp-content/uploads/2025/09/R1-02844-0017-scaled.jpg
ORGANIZER;CN="Climate KIC Community":MAILTO:community@climate-kic.org
END:VEVENT
END:VCALENDAR