BEGIN:VCALENDAR
VERSION:2.0
PRODID:-//Climate Hive | Climate KIC Community Platform - ECPv6.15.15//NONSGML v1.0//EN
CALSCALE:GREGORIAN
METHOD:PUBLISH
X-ORIGINAL-URL:https://climate-hive.org
X-WR-CALDESC:Events for Climate Hive | Climate KIC Community Platform
REFRESH-INTERVAL;VALUE=DURATION:PT1H
X-Robots-Tag:noindex
X-PUBLISHED-TTL:PT1H
BEGIN:VTIMEZONE
TZID:Europe/Berlin
BEGIN:DAYLIGHT
TZOFFSETFROM:+0100
TZOFFSETTO:+0200
TZNAME:CEST
DTSTART:20250330T010000
END:DAYLIGHT
BEGIN:STANDARD
TZOFFSETFROM:+0200
TZOFFSETTO:+0100
TZNAME:CET
DTSTART:20251026T010000
END:STANDARD
BEGIN:DAYLIGHT
TZOFFSETFROM:+0100
TZOFFSETTO:+0200
TZNAME:CEST
DTSTART:20260329T010000
END:DAYLIGHT
BEGIN:STANDARD
TZOFFSETFROM:+0200
TZOFFSETTO:+0100
TZNAME:CET
DTSTART:20261025T010000
END:STANDARD
BEGIN:DAYLIGHT
TZOFFSETFROM:+0100
TZOFFSETTO:+0200
TZNAME:CEST
DTSTART:20270328T010000
END:DAYLIGHT
BEGIN:STANDARD
TZOFFSETFROM:+0200
TZOFFSETTO:+0100
TZNAME:CET
DTSTART:20271031T010000
END:STANDARD
END:VTIMEZONE
BEGIN:VTIMEZONE
TZID:Europe/London
BEGIN:DAYLIGHT
TZOFFSETFROM:+0000
TZOFFSETTO:+0100
TZNAME:BST
DTSTART:20250330T010000
END:DAYLIGHT
BEGIN:STANDARD
TZOFFSETFROM:+0100
TZOFFSETTO:+0000
TZNAME:GMT
DTSTART:20251026T010000
END:STANDARD
BEGIN:DAYLIGHT
TZOFFSETFROM:+0000
TZOFFSETTO:+0100
TZNAME:BST
DTSTART:20260329T010000
END:DAYLIGHT
BEGIN:STANDARD
TZOFFSETFROM:+0100
TZOFFSETTO:+0000
TZNAME:GMT
DTSTART:20261025T010000
END:STANDARD
BEGIN:DAYLIGHT
TZOFFSETFROM:+0000
TZOFFSETTO:+0100
TZNAME:BST
DTSTART:20270328T010000
END:DAYLIGHT
BEGIN:STANDARD
TZOFFSETFROM:+0100
TZOFFSETTO:+0000
TZNAME:GMT
DTSTART:20271031T010000
END:STANDARD
END:VTIMEZONE
BEGIN:VTIMEZONE
TZID:Europe/Brussels
BEGIN:DAYLIGHT
TZOFFSETFROM:+0100
TZOFFSETTO:+0200
TZNAME:CEST
DTSTART:20250330T010000
END:DAYLIGHT
BEGIN:STANDARD
TZOFFSETFROM:+0200
TZOFFSETTO:+0100
TZNAME:CET
DTSTART:20251026T010000
END:STANDARD
BEGIN:DAYLIGHT
TZOFFSETFROM:+0100
TZOFFSETTO:+0200
TZNAME:CEST
DTSTART:20260329T010000
END:DAYLIGHT
BEGIN:STANDARD
TZOFFSETFROM:+0200
TZOFFSETTO:+0100
TZNAME:CET
DTSTART:20261025T010000
END:STANDARD
BEGIN:DAYLIGHT
TZOFFSETFROM:+0100
TZOFFSETTO:+0200
TZNAME:CEST
DTSTART:20270328T010000
END:DAYLIGHT
BEGIN:STANDARD
TZOFFSETFROM:+0200
TZOFFSETTO:+0100
TZNAME:CET
DTSTART:20271031T010000
END:STANDARD
END:VTIMEZONE
BEGIN:VEVENT
DTSTART;TZID=Europe/Berlin:20260427T100000
DTEND;TZID=Europe/Berlin:20260427T113000
DTSTAMP:20260425T163733
CREATED:20260422T082741Z
LAST-MODIFIED:20260422T090118Z
UID:10000098-1777284000-1777289400@climate-hive.org
SUMMARY:Circular bio-based Europe: Resource efficiency\, technology and logistics
DESCRIPTION:This webinar will explore key aspects for fostering the development and deployment of new bio-based initiatives including: \n\n\n\n\nResource efficiency\n\n\n\nValorisation technologies\n\n\n\nLogistics optimisation\n\n\n\n\nIn today’s transition towards more sustainable and circular models\, these elements are not just technical aspects — they are strategic enablers that can significantly enhance the competitiveness\, and viability of projects in rural areas. \n\n\n\nThe session is specifically tailored to the primary sector\, offering practical and actionable insights for: \n\n\n\n\nFarmers and livestock producers\n\n\n\nCooperatives and associations\n\n\n\nClusters\n\n\n\nStakeholders across the bio-based value chain\n\n\n\n\n\nRegister here
URL:https://climate-hive.org/event/circular-bio-based-europe-resource-efficiency-technology-and-logistics/
CATEGORIES:Learning,Online,Organised by Climate KIC,Webinar
ATTACH;FMTTYPE=image/jpeg:https://climate-hive.org/wp-content/uploads/2026/04/getty-images-zsBHH2dI4lI-unsplash.jpg
ORGANIZER;CN="Climate KIC":MAILTO:community@climate-kic.org
END:VEVENT
BEGIN:VEVENT
DTSTART;TZID=Europe/Berlin:20260429T130000
DTEND;TZID=Europe/Berlin:20260429T143000
DTSTAMP:20260425T163733
CREATED:20260415T144414Z
LAST-MODIFIED:20260416T153723Z
UID:10000095-1777467600-1777473000@climate-hive.org
SUMMARY:Climathon Organiser training #1: Format\, challenge\, fundraising
DESCRIPTION:Welcome to the new Climathon Organiser training series!\n\n\n\nWhether you’re hosting your first Climathon or returning for another season\, this series of online trainings is designed to help you navigate the full Climathon process\, from event design to follow-up support. \n\n\n\nIn this first session\, we’ll cover the essentials and share our latest recommendations on: \n\n\n\n🎯 Define the right challenge for your city and community🗂️ Choose the best format for your event💰 Fundraise effectively to secure the support you need🤝 Engage the right partners  \n\n\n\nYou’ll hear directly from our experts\, exchange insights with fellow Organisers\, and leave with a clear\, actionable foundation for your Climathon. Bring your question and curiosity and get ready to meet our global Community! \n\n\n\nReady to make climate action happen in your city? Join us! \n\n\n\n\n\n\nLog in or sign up to RSVP for this event. \n\n\n\n\nLog in\n\n\n\nSign up
URL:https://climate-hive.org/event/climathon-organiser-training-1-format-challenge-fundraising/
ATTACH;FMTTYPE=image/jpeg:https://climate-hive.org/wp-content/uploads/2026/04/Curitiba_Brazil_2mb-1-scaled.jpg
LOCATION:https://climate-hive.org/event/climathon-organiser-training-1-format-challenge-fundraising/
END:VEVENT
BEGIN:VEVENT
DTSTART;TZID=Europe/Berlin:20260429T140000
DTEND;TZID=Europe/Berlin:20260429T153000
DTSTAMP:20260425T163733
CREATED:20260423T150333Z
LAST-MODIFIED:20260423T151512Z
UID:10000100-1777471200-1777476600@climate-hive.org
SUMMARY:Adaptation Accelerator Hub webinar series: Unlocking private capital for climate adaptation
DESCRIPTION:The 2026 Adaptation Accelerator Hub (AAH) webinar series focuses on private sector engagement in adaptation for climate resilience. The first webinar in this series highlights adaptation as a strategic\, profitable business opportunity and the role of the private sector from peripheral financiers to core drivers of resilience. \n\n\n\nThe session is designed to position climate resilience as an untapped $300 billion market\, emphasizing how adaptation investments foster sustainable growth and enhance cooperation within the financial sector to mobilize capital for vulnerable regions. \n\n\n\nDuring the webinar\, we will: \n\n\n\n\nExamine the market inefficiencies hindering investment and identify targeted policy reforms and risk mitigation instruments.\n\n\n\nHighlight the multifaceted role of businesses in adaptation\, recognizing their contributions as innovators\, logistics providers\, and technical experts beyond traditional financing.\n\n\n\nIllustrate the opportunities for private sector involvement in adaptation through case studies of successful privately led initiatives.\n\n\n\nPresent developments in countries such as Ethiopia\, Maldives\, and Cambodia to demonstrate how AAH support strengthens national readiness and facilitates the transition from climate planning to actionable\, investment-ready solutions. \n\n\n\n\nYou can read more information about the event here.
URL:https://climate-hive.org/event/adaptation-accelerator-hub-webinar-series-unlocking-private-capital-for-climate-adaptation/
CATEGORIES:Learning,Online,Webinar
ATTACH;FMTTYPE=image/jpeg:https://climate-hive.org/wp-content/uploads/2026/04/Planting-banana-suckers-Chirundu-district-Zambia_Photo-credit-Mulapwa-Mukopole-UNDP-Zambia.jpg
END:VEVENT
BEGIN:VEVENT
DTSTART;TZID=Europe/Berlin:20260505T130000
DTEND;TZID=Europe/Berlin:20260505T143000
DTSTAMP:20260425T163733
CREATED:20260416T150720Z
LAST-MODIFIED:20260416T153629Z
UID:10000097-1777986000-1777991400@climate-hive.org
SUMMARY:Climathon Organiser training #2: From event to systems change
DESCRIPTION:Welcome to the new Climathon Organiser training series!\n\n\n\nWhether you’re hosting your first Climathon or returning for another season\, this series of online trainings is designed to help you navigate the full Climathon process\, from event design to follow-up support. \n\n\n\nIn this second session\, we’re exploring the foundations of systems thinking and how it can transform your Climathon from a great local event into a driver of lasting change and impact.  \n\n\n\nWe’ll focus on: \n\n\n\n🔗 How to connect your event to the complex issues that your city is experiencing🌍 Why systems thinking matters and what it means for climate action in your city🎯 How to mobilise systemic change through your Climathon \n\n\n\nYou’ll hear directly from our experts\, exchange insights with fellow Organisers\, and leave with a clear\, actionable foundation for your Climathon. Bring your question and curiosity and get ready to meet our global Community! \n\n\n\nReady to make systemic climate action happen in your city? Join us! \n\n\n\n\n\n\nLog in or sign up to RSVP for this event.\n\n\n\n\nLog in\n\n\n\nSign up
URL:https://climate-hive.org/event/climathon-organiser-training-2-systems-change/
CATEGORIES:Climathon,Learning,Networking,Online,Organised by Climate KIC,Webinar
ATTACH;FMTTYPE=image/jpeg:https://climate-hive.org/wp-content/uploads/2026/04/Curitiba_Brazil_2mb-1-scaled.jpg
LOCATION:https://climate-hive.org/event/climathon-organiser-training-2-systems-change/
END:VEVENT
BEGIN:VEVENT
DTSTART;TZID=Europe/Berlin:20260506T140000
DTEND;TZID=Europe/Berlin:20260506T150000
DTSTAMP:20260425T163733
CREATED:20260416T082727Z
LAST-MODIFIED:20260424T142148Z
UID:10000096-1778076000-1778079600@climate-hive.org
SUMMARY:Insights: Green and digital. What it means for small businesses in practice 
DESCRIPTION:Join a new Community Insights session to discover how small businesses can increase competitiveness and resilience while navigating the green and digital transitions.\n\n\n\nSmall businesses are under pressure to both decarbonise and digitalise\, but doing both at once can feel overwhelming. What if going green and going digital could support each other? \n\n\n\nWorking on the “twin transition”\, combining green and digital strategies\, can help SMEs build resilience\, cut costs\, and future-proof their business. \n\n\n\nIn this new Community Insights session\, we will explore what the twin transition looks like in practice building on the insights from the recent study ‘Digital Transformation of European Micro-Businesses‘\, created in collaboration between Mastercard and Caribou. The research shows that many micro-businesses are still at an early stage of digital maturity and highlights that sustainability depends on digital readiness.  \n\n\n\nDuring the webinar we will unpack how digital and sustainability journeys intersect\, and what this means in practice for small businesses and those who support them.  \n\n\n\nWhat can you expect? \n\n\n\n\nKey insights from the study  \n\n\n\nPractical implications for micro-business support and programme design  \n\n\n\nA real-world case study\n\n\n\nInteractive discussion  \n\n\n\n\nThe study has been developed by Mastercard through its Strive EU programme – an initiative supporting small business growth and resilience across Europe – in collaboration with Caribou\, a global consultancy accelerating impact in the digital age. \n\n\n\n\n\n\nLog in to RSVP for this event\n\n\n\nThis event is open to Climate KIC Community members only. Log into your account to access the RSVP. Not a member yet? Join us to attend this session and access other events\, resources and activities. \n\n\n\n\nLog in\n\n\n\nJoin the Community\n\n\n\n\n\n\n\n\n\nAbout Community Insights\n\n\n\nReserved for Climate KIC Community members\, Community Insights are curated briefings on the topics that matter most to you; whether it’s navigating new funding landscapes\, understanding policy shifts\, or keeping pace with market developments. Each online session is constructed to be practical\, timely and relevant.
URL:https://climate-hive.org/event/insights-green-and-digital-for-small-businesses/
CATEGORIES:Community event,Community Insights,Learning,Online,Organised by Climate KIC,Webinar
ATTACH;FMTTYPE=image/jpeg:https://climate-hive.org/wp-content/uploads/2026/04/getty-images-Sf2MBY7xIkY-unsplash.jpg
LOCATION:https://climate-hive.org/event/insights-green-and-digital-for-small-businesses/
END:VEVENT
BEGIN:VEVENT
DTSTART;TZID=Europe/London:20260511T093000
DTEND;TZID=Europe/London:20260512T203000
DTSTAMP:20260425T163733
CREATED:20260423T151257Z
LAST-MODIFIED:20260423T151301Z
UID:10000101-1778491800-1778617800@climate-hive.org
SUMMARY:How to Evolve - Global book tour
DESCRIPTION:What if the strategies we rely on to tackle complex problems are actually making things worse? \n\n\n\nThat’s the central provocation of ‘How to Evolve’\, the new book by systems thinker and author Zaid Hassan. His argument is direct: in complex systems\, strategy-as-planning is not just ineffective – it’s a form of malpractice. Millions spent on workshops that produce documents\, not real change\, is a pattern too many of us recognise. \n\n\n\nThis is territory we know well. At Climate KIC\, we work in what we call the “messy middle” — the uncertain\, often unpredictable space between climate ambition and climate reality. We don’t believe you can plan your way through that space. You have to practice your way through it. Zaid’s work puts that conviction into sharp\, rigorous focus. We think it’s essential reading for anyone working in climate innovation\, systems change\, or public and private sector transformation. \n\n\n\nClimate KIC and Ten in Ten are proud to host the Copenhagen dates of Zaid’s global book tour. Across two days at BLOXHUB (Bryghuspladsen 8) there are three ways to engage with his work — from a full-day hands-on workshop to a public evening lecture and an intimate author dinner. \n\n\n\nProgramme\n\n\n\nStrategy & Anti-Strategy WorkshopMonday 11 May | 09:30–17:30 CETA full-day\, hands-on workshop with Zaid Hassan introducing participants to the practice of systemic action. Limited to 30 seats.DKK 3\,189.99 (standard) / DKK 1\,589.99 (student) \n\n\n\nHow to Evolve — Public LectureTuesday 12 May | 18:30–20:00 CETAn in-depth public talk and Q&A with Zaid Hassan on the core ideas from his new book. Open to all.DKK 189.99 (standard) / DKK 89.99 (student) \n\n\n\nHow to Evolve — Author DinnerTuesday 12 May | 20:30 CETA small\, intimate dinner where Zaid shares behind-the-scenes stories from the book and the tour. Limited to 30 seats.DKK 789.99 (standard) / DKK 469.99 (student) \n\n\n\nA 3-Event Bundle — covering all three events plus a book pack (hardback\, notebook\, T-shirt\, and stickers) — is also available at DKK 3\,189.99 (standard) / DKK 1\,589.99 (student). \n\n\n\n\n\nCan’t make Copenhagen? Zaid is also taking the tour to Amsterdam\, Berlin\, Oxford\, Singapore\, Sydney\, and cities across four continents. See the full tour schedule
URL:https://climate-hive.org/event/how-to-evolve-global-book-tour/
CATEGORIES:In-person,Learning,Networking,Organised by Climate KIC
ATTACH;FMTTYPE=image/png:https://climate-hive.org/wp-content/uploads/2026/04/How_to_Evolve_Copenhagen_2x-2100x1181-1.png
ORGANIZER;CN="Climate KIC":MAILTO:community@climate-kic.org
END:VEVENT
BEGIN:VEVENT
DTSTART;TZID=Europe/Brussels:20260527T140000
DTEND;TZID=Europe/Brussels:20260527T180000
DTSTAMP:20260425T163733
CREATED:20260414T090413Z
LAST-MODIFIED:20260414T090640Z
UID:10000093-1779890400-1779904800@climate-hive.org
SUMMARY:Hubs4Circularity Community of Practice: closing conference
DESCRIPTION:Save the date for the final conference of the Hubs4Circularity Community of Practice\, happening in Brussels on 27 May 2026. \n\n\n\nAfter four years\, the Hubs4Circularity Community of Practice initiative – of which Climate KIC is a key partner – comes to an end. To celebrate the Community’s achievements and chart a course for what’s next\, we invite you to join us alongside experts from industry\, regions and cities\, policy\, research and innovation. \n\n\n\nWho is this event for? \n\n\n\n✅ Hubs4Circularity (H4C) demo sites\, members of the H4C Knowledge Platform\, A.SPIRE members✅ Experts and practitioners in industrial symbiosis\, industrial-urban symbiosis and circular economy \n\n\n\nParticipants will have the opportunity to: \n\n\n\n✅ Learn about experiences from Hubs4Circularity initiatives across Europe✅ Explore the future of the Hubs4Circularity Knowledge Platform\, designed to support collaboration and knowledge sharing across the community✅ Engage with stakeholders involved in the development of circular industrial ecosystems \n\n\n\nUseful information \n\n\n\n👉 More information is available on the event webpage: Save-the-date: Final Conference of Hubs4Circularity Community of Practice – Hubs4Circularity❗Registrations are free but limited\, so make sure to secure your spot as soon as possible.
URL:https://climate-hive.org/event/hubs4circularity-community-of-practice-closing-conference/
LOCATION:Hotel DoubleTree by Hilton Brussels City\, Rue Gineste 3\, Brussels\, 1210\, Belgium
CATEGORIES:Conference,Organised by Climate KIC
ATTACH;FMTTYPE=image/jpeg:https://climate-hive.org/wp-content/uploads/2026/04/venti-views-MsLhYi2Lihs-unsplash.jpg
END:VEVENT
END:VCALENDAR