BEGIN:VCALENDAR
VERSION:2.0
PRODID:-//Climate Hive | Climate KIC Community Platform - ECPv6.15.15//NONSGML v1.0//EN
CALSCALE:GREGORIAN
METHOD:PUBLISH
X-WR-CALNAME:Climate Hive | Climate KIC Community Platform
X-ORIGINAL-URL:https://climate-hive.org
X-WR-CALDESC:Events for Climate Hive | Climate KIC Community Platform
REFRESH-INTERVAL;VALUE=DURATION:PT1H
X-Robots-Tag:noindex
X-PUBLISHED-TTL:PT1H
BEGIN:VTIMEZONE
TZID:Europe/London
BEGIN:DAYLIGHT
TZOFFSETFROM:+0000
TZOFFSETTO:+0100
TZNAME:BST
DTSTART:20240331T010000
END:DAYLIGHT
BEGIN:STANDARD
TZOFFSETFROM:+0100
TZOFFSETTO:+0000
TZNAME:GMT
DTSTART:20241027T010000
END:STANDARD
BEGIN:DAYLIGHT
TZOFFSETFROM:+0000
TZOFFSETTO:+0100
TZNAME:BST
DTSTART:20250330T010000
END:DAYLIGHT
BEGIN:STANDARD
TZOFFSETFROM:+0100
TZOFFSETTO:+0000
TZNAME:GMT
DTSTART:20251026T010000
END:STANDARD
BEGIN:DAYLIGHT
TZOFFSETFROM:+0000
TZOFFSETTO:+0100
TZNAME:BST
DTSTART:20260329T010000
END:DAYLIGHT
BEGIN:STANDARD
TZOFFSETFROM:+0100
TZOFFSETTO:+0000
TZNAME:GMT
DTSTART:20261025T010000
END:STANDARD
END:VTIMEZONE
BEGIN:VEVENT
DTSTART;TZID=Europe/London:20251118T140000
DTEND;TZID=Europe/London:20251118T153000
DTSTAMP:20260425T211356
CREATED:20251105T095212Z
LAST-MODIFIED:20251105T100855Z
UID:5057-1763474400-1763479800@climate-hive.org
SUMMARY:From Rethinking to Redoing Funding: Operationalising New Approaches
DESCRIPTION:Across philanthropy\, government and impact investing\, the rules of funding are being rewritten.  How do we lead\, learn and adapt when the ground keeps moving?   \n\n\n\nThe Systems Innovation Learning Partnership (SILP) led by Climate KIC is hosting a three-part Deep Dive Series exploring how funders\, intermediaries and systems leaders can navigate complexity and catalyse transformation. \n\n\n\nModule 2: From Rethinking to Redoing Funding: Operationalising New Approaches\n\n\n\nHow do we move from strategy to action? This session will explore the practical realities of implementing bold\, systemic ambitions in turbulent and opportunity-rich context\, from re-designing reporting systems to embedding adaptive learning and accountability. \n\n\n\n\n\nExplore the full series of Systems Innovation Learning Partnership’s Deep Dives: \n\n\n\n\nModule 1: Funding in Shifting Context\n\n\n\nModule 2: From Rethinking to Redoing Funding: Operationalising New Approaches\n\n\n\nModule 3: The Invisible Work of Systems Change
URL:https://climate-hive.org/event/from-rethinking-to-redoing-funding-operationalising-new-approaches/
CATEGORIES:Learning,Online,Organised by Climate KIC,Webinar
ATTACH;FMTTYPE=image/jpeg:https://climate-hive.org/wp-content/uploads/2025/11/man_sea-scaled.jpg
END:VEVENT
END:VCALENDAR