BEGIN:VCALENDAR
VERSION:2.0
PRODID:-//Climate Hive | Climate KIC Community Platform - ECPv6.15.15//NONSGML v1.0//EN
CALSCALE:GREGORIAN
METHOD:PUBLISH
X-WR-CALNAME:Climate Hive | Climate KIC Community Platform
X-ORIGINAL-URL:https://climate-hive.org
X-WR-CALDESC:Events for Climate Hive | Climate KIC Community Platform
REFRESH-INTERVAL;VALUE=DURATION:PT1H
X-Robots-Tag:noindex
X-PUBLISHED-TTL:PT1H
BEGIN:VTIMEZONE
TZID:Europe/London
BEGIN:DAYLIGHT
TZOFFSETFROM:+0000
TZOFFSETTO:+0100
TZNAME:BST
DTSTART:20250330T010000
END:DAYLIGHT
BEGIN:STANDARD
TZOFFSETFROM:+0100
TZOFFSETTO:+0000
TZNAME:GMT
DTSTART:20251026T010000
END:STANDARD
BEGIN:DAYLIGHT
TZOFFSETFROM:+0000
TZOFFSETTO:+0100
TZNAME:BST
DTSTART:20260329T010000
END:DAYLIGHT
BEGIN:STANDARD
TZOFFSETFROM:+0100
TZOFFSETTO:+0000
TZNAME:GMT
DTSTART:20261025T010000
END:STANDARD
BEGIN:DAYLIGHT
TZOFFSETFROM:+0000
TZOFFSETTO:+0100
TZNAME:BST
DTSTART:20270328T010000
END:DAYLIGHT
BEGIN:STANDARD
TZOFFSETFROM:+0100
TZOFFSETTO:+0000
TZNAME:GMT
DTSTART:20271031T010000
END:STANDARD
END:VTIMEZONE
BEGIN:VEVENT
DTSTART;TZID=Europe/London:20260115T080000
DTEND;TZID=Europe/London:20260115T170000
DTSTAMP:20260425T193644
CREATED:20260115T120947Z
LAST-MODIFIED:20260115T121212Z
UID:6685-1768464000-1768496400@climate-hive.org
SUMMARY:Fundraising Clinic - Free live webinar
DESCRIPTION:Our partners from Fundraising Bootcamp are hosting a free live webinar to assist companies looking to raise funds during the year. \n\n\n\nJoin the webinar to learn: \n\n\n\n\nwhat’s really happening in Venture Capital in Europe\n\n\n\nwhy it is hard to fundraise right now\n\n\n\nthe most common fundraising mistakes – and how to avoid them\n\n\n\nhow you can adapt to succeed \n\n\n\nwhat to change in a funding process today\n\n\n\nhow to prepare\, how to control your own timelines\, terms\, and more.
URL:https://climate-hive.org/event/fundraising-clinic-free-live-webinar/
CATEGORIES:Online,Organised by Member / Partner,Webinar
ATTACH;FMTTYPE=image/jpeg:https://climate-hive.org/wp-content/uploads/2025/10/getty-images-T_Gto3iKE-s-unsplash-2100x1181-1.jpg
END:VEVENT
END:VCALENDAR