BEGIN:VCALENDAR
VERSION:2.0
PRODID:-//Climate Hive | Climate KIC Community Platform - ECPv6.15.15//NONSGML v1.0//EN
CALSCALE:GREGORIAN
METHOD:PUBLISH
X-WR-CALNAME:Climate Hive | Climate KIC Community Platform
X-ORIGINAL-URL:https://climate-hive.org
X-WR-CALDESC:Events for Climate Hive | Climate KIC Community Platform
REFRESH-INTERVAL;VALUE=DURATION:PT1H
X-Robots-Tag:noindex
X-PUBLISHED-TTL:PT1H
BEGIN:VTIMEZONE
TZID:Europe/Berlin
BEGIN:DAYLIGHT
TZOFFSETFROM:+0100
TZOFFSETTO:+0200
TZNAME:CEST
DTSTART:20250330T010000
END:DAYLIGHT
BEGIN:STANDARD
TZOFFSETFROM:+0200
TZOFFSETTO:+0100
TZNAME:CET
DTSTART:20251026T010000
END:STANDARD
BEGIN:DAYLIGHT
TZOFFSETFROM:+0100
TZOFFSETTO:+0200
TZNAME:CEST
DTSTART:20260329T010000
END:DAYLIGHT
BEGIN:STANDARD
TZOFFSETFROM:+0200
TZOFFSETTO:+0100
TZNAME:CET
DTSTART:20261025T010000
END:STANDARD
BEGIN:DAYLIGHT
TZOFFSETFROM:+0100
TZOFFSETTO:+0200
TZNAME:CEST
DTSTART:20270328T010000
END:DAYLIGHT
BEGIN:STANDARD
TZOFFSETFROM:+0200
TZOFFSETTO:+0100
TZNAME:CET
DTSTART:20271031T010000
END:STANDARD
END:VTIMEZONE
BEGIN:VEVENT
DTSTART;TZID=Europe/Berlin:20260317T090000
DTEND;TZID=Europe/Berlin:20260317T210000
DTSTAMP:20260425T181102
CREATED:20260309T112715Z
LAST-MODIFIED:20260309T112938Z
UID:7165-1773738000-1773781200@climate-hive.org
SUMMARY:Startup Energy Transition (SET) Tech Festival 2026
DESCRIPTION:Do you want to be part of the global energy transition? Looking for a place to connect with other leaders in climate tech? Then join the 10th edition of the SET Tech Festival in Berlin on 17 March 2026 and celebrate a decade of energy innovation! \n\n\n\nThe SET Tech Festival is the pre-eminent annual event for innovative start-ups\, experienced investors\, and solutions-driven industry. Running since 2016 and supported by the German Energy Agency\, STF brings together a global network from around the world interested in shaping the future of energy.  \n\n\n\nThe one-day event closes with the 10th edition of the SET Award Ceremony and the evening is filled with entertainment\, refreshments\, relaxed networking\, and where the winners of our annual SET Award are announced. \n\n\n\nWhat to expect? \n\n\n\n\n15 live pitches by our SET Award 2026 finalists covering solutions in: Clean Energy & Storage; Mobility & Transport; Industry; Buildings & Construction; Quality Energy Access & SDG-7.\n\n\n\nInspiring keynotes from expert stakeholders in the energy industry and public policy.\n\n\n\nInteractive workshops & panel discussions with VCs\, start-ups\, industry organisations and technology innovators.\n\n\n\nNumerous networking opportunities including dedicated 1:1 meet-ups\, guest pitches\, and exhibition areas. \n\n\n\nConnect with innovative start-ups\, experienced investors and dedicated industry leaders to explore the latest trends\, technologies\, and solutions in energy and climate tech.\n\n\n\n\n\n\nFor members of Climate KIC Community\, we’re offering an exclusive 50% discount on the pass. Contact us to receive your discount code.  \n\n\n\n\nCONTACT US
URL:https://climate-hive.org/event/startup-energy-transition-set-tech-festival-2026/
LOCATION:Colosseum Berlin\, Gleimstraße 31\, Berlin\, Germany
CATEGORIES:Conference,In-person,Networking,Organised by Member / Partner,Policy
ATTACH;FMTTYPE=image/jpeg:https://climate-hive.org/wp-content/uploads/2026/03/florian-wehde-1uWanmgkd5g-unsplash.jpg
END:VEVENT
END:VCALENDAR