BEGIN:VCALENDAR
VERSION:2.0
PRODID:-//Climate Hive | Climate KIC Community Platform - ECPv6.15.15//NONSGML v1.0//EN
CALSCALE:GREGORIAN
METHOD:PUBLISH
X-WR-CALNAME:Climate Hive | Climate KIC Community Platform
X-ORIGINAL-URL:https://climate-hive.org
X-WR-CALDESC:Events for Climate Hive | Climate KIC Community Platform
REFRESH-INTERVAL;VALUE=DURATION:PT1H
X-Robots-Tag:noindex
X-PUBLISHED-TTL:PT1H
BEGIN:VTIMEZONE
TZID:Europe/London
BEGIN:DAYLIGHT
TZOFFSETFROM:+0000
TZOFFSETTO:+0100
TZNAME:BST
DTSTART:20240331T010000
END:DAYLIGHT
BEGIN:STANDARD
TZOFFSETFROM:+0100
TZOFFSETTO:+0000
TZNAME:GMT
DTSTART:20241027T010000
END:STANDARD
BEGIN:DAYLIGHT
TZOFFSETFROM:+0000
TZOFFSETTO:+0100
TZNAME:BST
DTSTART:20250330T010000
END:DAYLIGHT
BEGIN:STANDARD
TZOFFSETFROM:+0100
TZOFFSETTO:+0000
TZNAME:GMT
DTSTART:20251026T010000
END:STANDARD
BEGIN:DAYLIGHT
TZOFFSETFROM:+0000
TZOFFSETTO:+0100
TZNAME:BST
DTSTART:20260329T010000
END:DAYLIGHT
BEGIN:STANDARD
TZOFFSETFROM:+0100
TZOFFSETTO:+0000
TZNAME:GMT
DTSTART:20261025T010000
END:STANDARD
END:VTIMEZONE
BEGIN:VEVENT
DTSTART;TZID=Europe/London:20251209T090000
DTEND;TZID=Europe/London:20251210T150000
DTSTAMP:20260426T031448
CREATED:20251111T135233Z
LAST-MODIFIED:20251113T142532Z
UID:10000057-1765270800-1765378800@climate-hive.org
SUMMARY:EIT Cyprus High Impact Festival
DESCRIPTION:The EIT high-impact Innovation Activity in Cyprus is a major two-day initiative designed to strengthen Cyprus’s innovation ecosystem and the country’s role within the European innovation ecosystem. \n\n\n\nThe event will convene policymakers\, national government representatives\, industry leaders\, start-ups and research institutions to explore how Cyprus can leverage European innovation policies and funding mechanisms to drive sustainable growth. \n\n\n\nAs Cyprus will assume the Presidency of the EU Council in 2026\, this event will be held under the auspices of the presidency\, and it will be a key platform to highlight the country’s leadership in shaping Europe’s innovation agenda. \n\n\n\nDuring this 2-day event you will have the opportunity to expand your regional influence and visibility across the Mediterranean.  \n\n\n\n\nRegister here
URL:https://climate-hive.org/event/eit-cyprus-high-impact-festival/
LOCATION:CYENS Center of Excellence\, Cyprus
CATEGORIES:Conference,In-person,Networking,Organised by Member / Partner,Policy
ATTACH;FMTTYPE=image/jpeg:https://climate-hive.org/wp-content/uploads/2025/11/katerina-bot-sZ8zn03gFKU-unsplash-scaled.jpg
ORGANIZER;CN="EIT Community Hub Cyprus":MAILTO:cyprus@eitcommunity.eu
END:VEVENT
BEGIN:VEVENT
DTSTART;TZID=Europe/London:20251017T123000
DTEND;TZID=Europe/London:20251017T133000
DTSTAMP:20260426T031448
CREATED:20251010T144453Z
LAST-MODIFIED:20251010T144457Z
UID:10000035-1760704200-1760707800@climate-hive.org
SUMMARY:Bioeconomy Policy Innovation in Action: Insights from the EU\, Ireland\, and Beyond
DESCRIPTION:Discover the latest bioeconomy policy innovations across the EU\, Ireland\, and diverse EU Member States. This webinar explains recent EU Bioeconomy Strategy developments\, analyzes Ireland’s Bioeconomy Action Plan through an innovation lens\, and shares bioeconomy policy innovation insights from other EU countries to boost learning across different contexts. Join us for an engaging session to deepen your bioeconomy policy expertise.
URL:https://climate-hive.org/event/bioeconomy-policy-innovation-in-action-insights-from-the-eu-ireland-and-beyond/
CATEGORIES:Learning,Online,Policy
ATTACH;FMTTYPE=image/jpeg:https://climate-hive.org/wp-content/uploads/2025/10/brian-kelly-ZTk4LSqm9YA-unsplash.jpg
LOCATION:https://climate-hive.org/event/bioeconomy-policy-innovation-in-action-insights-from-the-eu-ireland-and-beyond/
END:VEVENT
END:VCALENDAR