BEGIN:VCALENDAR
VERSION:2.0
PRODID:-//Climate Hive | Climate KIC Community Platform - ECPv6.15.15//NONSGML v1.0//EN
CALSCALE:GREGORIAN
METHOD:PUBLISH
X-WR-CALNAME:Climate Hive | Climate KIC Community Platform
X-ORIGINAL-URL:https://climate-hive.org
X-WR-CALDESC:Events for Climate Hive | Climate KIC Community Platform
REFRESH-INTERVAL;VALUE=DURATION:PT1H
X-Robots-Tag:noindex
X-PUBLISHED-TTL:PT1H
BEGIN:VTIMEZONE
TZID:Europe/London
BEGIN:DAYLIGHT
TZOFFSETFROM:+0000
TZOFFSETTO:+0100
TZNAME:BST
DTSTART:20250330T010000
END:DAYLIGHT
BEGIN:STANDARD
TZOFFSETFROM:+0100
TZOFFSETTO:+0000
TZNAME:GMT
DTSTART:20251026T010000
END:STANDARD
BEGIN:DAYLIGHT
TZOFFSETFROM:+0000
TZOFFSETTO:+0100
TZNAME:BST
DTSTART:20260329T010000
END:DAYLIGHT
BEGIN:STANDARD
TZOFFSETFROM:+0100
TZOFFSETTO:+0000
TZNAME:GMT
DTSTART:20261025T010000
END:STANDARD
BEGIN:DAYLIGHT
TZOFFSETFROM:+0000
TZOFFSETTO:+0100
TZNAME:BST
DTSTART:20270328T010000
END:DAYLIGHT
BEGIN:STANDARD
TZOFFSETFROM:+0100
TZOFFSETTO:+0000
TZNAME:GMT
DTSTART:20271031T010000
END:STANDARD
END:VTIMEZONE
BEGIN:VEVENT
DTSTART;TZID=Europe/London:20260317T000000
DTEND;TZID=Europe/London:20260319T235959
DTSTAMP:20260425T235756
CREATED:20251021T142829Z
LAST-MODIFIED:20251021T142833Z
UID:10000040-1773705600-1773964799@climate-hive.org
SUMMARY:The 3rd European Carbon Farming Summit
DESCRIPTION:The European Carbon Farming Summit is the leading annual forum for shaping the future of carbon farming in Europe – bringing together farmers\, researchers\, policymakers\, businesses\, and investors to co-create pathways toward climate-positive agriculture. \nOrganised within the framework of the Horizon Europe-funded Credible project by Climate KIC and SAE Innova\, and co-hosted by EIT Food (as coordinator of LILAS4SOILS)\, Confagricoltura Veneto\, with the support of Veneto Agricoltura\, the summit aims to strengthen Europe’s capacity to scale regenerative practices\, build robust carbon markets\, and design effective soil and climate policies. \nOver three days of dialogue\, collaboration\, and knowledge exchange\, participants will: \n\nExplore the latest insights in soil health\, carbon sequestration\, and climate finance.\nConnect with farmers\, innovators\, and policymakers driving practical change.\nCo-design the next steps for credible\, equitable\, and scalable carbon farming systems.\n\nWhether you are working in research\, policy\, business\, or on the ground\, the Carbon Farming Summit is your opportunity to be part of Europe’s growing community of practice for regenerative agriculture.
URL:https://climate-hive.org/event/the-3rd-european-carbon-farming-summit/
LOCATION:Padova Congress Center\, Italy\, Padova Fiere\, Padua\, Padua\, 35131\, Italy
CATEGORIES:Conference,In-person,Learning,Networking,Organised by Climate KIC
ATTACH;FMTTYPE=image/png:https://climate-hive.org/wp-content/uploads/2025/10/ECFS-2026-Announcement-Visual.png
ORGANIZER;CN="Climate KIC":MAILTO:community@climate-kic.org
END:VEVENT
END:VCALENDAR