BEGIN:VCALENDAR
VERSION:2.0
PRODID:-//Climate Hive | Climate KIC Community Platform - ECPv6.15.15//NONSGML v1.0//EN
CALSCALE:GREGORIAN
METHOD:PUBLISH
X-WR-CALNAME:Climate Hive | Climate KIC Community Platform
X-ORIGINAL-URL:https://climate-hive.org
X-WR-CALDESC:Events for Climate Hive | Climate KIC Community Platform
REFRESH-INTERVAL;VALUE=DURATION:PT1H
X-Robots-Tag:noindex
X-PUBLISHED-TTL:PT1H
BEGIN:VTIMEZONE
TZID:Europe/London
BEGIN:DAYLIGHT
TZOFFSETFROM:+0000
TZOFFSETTO:+0100
TZNAME:BST
DTSTART:20240331T010000
END:DAYLIGHT
BEGIN:STANDARD
TZOFFSETFROM:+0100
TZOFFSETTO:+0000
TZNAME:GMT
DTSTART:20241027T010000
END:STANDARD
BEGIN:DAYLIGHT
TZOFFSETFROM:+0000
TZOFFSETTO:+0100
TZNAME:BST
DTSTART:20250330T010000
END:DAYLIGHT
BEGIN:STANDARD
TZOFFSETFROM:+0100
TZOFFSETTO:+0000
TZNAME:GMT
DTSTART:20251026T010000
END:STANDARD
BEGIN:DAYLIGHT
TZOFFSETFROM:+0000
TZOFFSETTO:+0100
TZNAME:BST
DTSTART:20260329T010000
END:DAYLIGHT
BEGIN:STANDARD
TZOFFSETFROM:+0100
TZOFFSETTO:+0000
TZNAME:GMT
DTSTART:20261025T010000
END:STANDARD
END:VTIMEZONE
BEGIN:VEVENT
DTSTART;TZID=Europe/London:20251126T000000
DTEND;TZID=Europe/London:20251126T235959
DTSTAMP:20260426T014639
CREATED:20251112T082647Z
LAST-MODIFIED:20251112T082650Z
UID:10000059-1764115200-1764201599@climate-hive.org
SUMMARY:Open Day during Art & Tech Days
DESCRIPTION:The EIT Culture & Creativity Colocation Centre East invites you to a special Open Day during Art & Tech Days. This gathering will serve as a vibrant community meeting space for exchanging ideas\, forging collaborations\, and reflecting on the festival’s theme — One World — through the lens of resilience. \nDiscover how creativity shapes sustainable and resilient societies by harnessing the power of design\, dialogue\, and collaboration. Take part in inspiring hands-on workshops\, connect with fellow innovators\, and share ideas that spark new possibilities and lasting impact
URL:https://climate-hive.org/event/open-day-during-art-tech-days/
LOCATION:Kasárne/Kulturpark\, Kukučínova 2\, Košice\, Slovakia (Slovak Republic)
CATEGORIES:Conference,In-person,Learning,Networking
ATTACH;FMTTYPE=image/png:https://climate-hive.org/wp-content/uploads/2025/11/EIT_CandC_East.png
END:VEVENT
BEGIN:VEVENT
DTSTART;TZID=Europe/London:20251015T160000
DTEND;TZID=Europe/London:20251015T173000
DTSTAMP:20260426T014639
CREATED:20250924T142217Z
LAST-MODIFIED:20251010T185532Z
UID:10000018-1760544000-1760549400@climate-hive.org
SUMMARY:Connect: Transformation on the Ground. Guidelines for community led innovation
DESCRIPTION:Join us for an insightful Community Connect session exploring a community-led\, place-based approach to innovation\, and discover how it can be replicated in your organisation’s operations for greater impact.\n\n\n\nAs climate innovators\, we’re often pushed to think of new bold ideas that are scalable and ‘solve’ urgent issues. However\, what might get missed through such an approach? \n\n\n\nPerhaps systems transformation can be more effective with slow\, relational and place-based approaches. \n\n\n\nBut how can such approaches be integrated in your work as innovators? And how do you convince funders\, investors\, and strategic partners to follow this approach?  \n\n\n\nJoin us for a new Community Connect session as we dive into innovation rooted in community and systemic transformation\, and uncover how it can lead your organisation to achieve greater impact. \n\n\n\nWe’ll discuss with experts from Unearthodox and Post Growth Institute\, who have just published a report on this topic titled ‘Nurturing Innovation: Weaving Containers with Care and Courage for Collective Change‘. With them\, we’ll learn how this model of innovation can be replicated in your work context and scaled to other organisations partnering with you. \n\n\n\n\nREGISTER HERE\n\n\n\n\n \n\n\n\nMeet the speakers\n\n\n\n\nMarianna Coulentianos is the Post Growth Institute’s Research Lead\, based in the UK. She is a lecturer in Responsible Design\, School of Design and Creative Arts at Loughborough University\n\n\n\nSonia Tesfaye is a research and policy consultant and social justice advocate\, based in Germany. Her work focuses on gender justice\, intersectionality\, African feminism\, and decolonial perspectives. Sonia is an Affiliate Fellow of the Post Growth Institute\n\n\n\nClaire Dusonchet is Innovation Portfolio Manager at Unearthodox\, based in France. She applies systems and futures thinking\, together with inclusive co-creation\, to support innovators in developing transformative ideas for nature and society\n\n\n\n\n \n\n\n\nAgenda\n\n\n\n16:00 – 16:05 Welcoming & Community updates16:05 – 16:15 Intro to community-led\, relational innovation16:15 – 16:40 Deep dive into how to nurture innovation with a community-led\, place-based approach16:40 – 17:05 Networking breakout rooms based on three selected insights17:05 – 17:20 Harvesting from group discussions and Q&A17:20 – 17:30 Closing \n\n\n\n \n\n\n\nAbout Unearthodox\n\n\n\nUnearthodox is a thinkubator that supports unexpected connections to transform bold visions into reality. The organisation explores new concepts\, anticipates emerging trends\, and brings impact-focused innovation into action\, catalysing transformative change for people and the planet. Its mission is to make bold\, transformative innovations for people and nature findable\, fundable\, and feasible. Rather than adding to the many near-term solutions available in conservation\, Unearthodox works in networks to reimagine what is possible\, creating space for long-term\, equitable\, and regenerative futures to take shape\, and moving ideas from vision to reality. The organisation connects and works alongside innovators\, thought leaders\, funders\, and decision-makers who are committed to deep\, systemic change in the service of all life.
URL:https://climate-hive.org/event/connect-transformation-on-the-ground-guidelines-for-community-led-innovation/
CATEGORIES:Community Connect,Community event,Learning,Networking,Online,Organised by Climate KIC
ATTACH;FMTTYPE=image/jpeg:https://climate-hive.org/wp-content/uploads/2025/09/getty-images-2Ng_HiDqfbo-unsplash-1-scaled.jpg
ORGANIZER;CN="Climate KIC Community":MAILTO:community@climate-kic.org
END:VEVENT
END:VCALENDAR