BEGIN:VCALENDAR
VERSION:2.0
PRODID:-//Climate Hive | Climate KIC Community Platform - ECPv6.15.15//NONSGML v1.0//EN
CALSCALE:GREGORIAN
METHOD:PUBLISH
X-WR-CALNAME:Climate Hive | Climate KIC Community Platform
X-ORIGINAL-URL:https://climate-hive.org/fr
X-WR-CALDESC:Évènements pour Climate Hive | Climate KIC Community Platform
REFRESH-INTERVAL;VALUE=DURATION:PT1H
X-Robots-Tag:noindex
X-PUBLISHED-TTL:PT1H
BEGIN:VTIMEZONE
TZID:Europe/London
BEGIN:DAYLIGHT
TZOFFSETFROM:+0000
TZOFFSETTO:+0100
TZNAME:BST
DTSTART:20240331T010000
END:DAYLIGHT
BEGIN:STANDARD
TZOFFSETFROM:+0100
TZOFFSETTO:+0000
TZNAME:GMT
DTSTART:20241027T010000
END:STANDARD
BEGIN:DAYLIGHT
TZOFFSETFROM:+0000
TZOFFSETTO:+0100
TZNAME:BST
DTSTART:20250330T010000
END:DAYLIGHT
BEGIN:STANDARD
TZOFFSETFROM:+0100
TZOFFSETTO:+0000
TZNAME:GMT
DTSTART:20251026T010000
END:STANDARD
BEGIN:DAYLIGHT
TZOFFSETFROM:+0000
TZOFFSETTO:+0100
TZNAME:BST
DTSTART:20260329T010000
END:DAYLIGHT
BEGIN:STANDARD
TZOFFSETFROM:+0100
TZOFFSETTO:+0000
TZNAME:GMT
DTSTART:20261025T010000
END:STANDARD
END:VTIMEZONE
BEGIN:VEVENT
DTSTART;TZID=Europe/London:20251005T080000
DTEND;TZID=Europe/London:20251106T170000
DTSTAMP:20260426T030934
CREATED:20251009T170448Z
LAST-MODIFIED:20251009T171003Z
UID:4505-1759651200-1762448400@climate-hive.org
SUMMARY:CATAL1.5T Climathons in Central & South America
DESCRIPTION:The CATAL1.5°T [ˈkætəlɪst] Initiative’s ambition is to boost investments in promising early-stage climate ventures from the Global South. To ensure long-lasting impact\, we also strengthen regional climate innovation ecosystems. \n\n\n\nAs part of the initiative\, we are working with organisations from 10+ countries to implement various Climathons in collaboration with local partners. These events aim to: \n\n\n\n\nSupport the inclusion of women and other marginalised groups within the climate entrepreneurship community\n\n\n\nIdentify priority areas for local climate action\n\n\n\nGenerate innovative solution ideas during the Climathons
URL:https://climate-hive.org/fr/event/catal1-5t-climathons-in-central-south-america/
ATTACH;FMTTYPE=image/jpeg:https://climate-hive.org/wp-content/uploads/2025/10/Hacking-away-2.jpg
END:VEVENT
END:VCALENDAR