BEGIN:VCALENDAR
VERSION:2.0
PRODID:-//Climate Hive | Climate KIC Community Platform - ECPv6.15.15//NONSGML v1.0//EN
CALSCALE:GREGORIAN
METHOD:PUBLISH
X-WR-CALNAME:Climate Hive | Climate KIC Community Platform
X-ORIGINAL-URL:https://climate-hive.org/fr
X-WR-CALDESC:Évènements pour Climate Hive | Climate KIC Community Platform
REFRESH-INTERVAL;VALUE=DURATION:PT1H
X-Robots-Tag:noindex
X-PUBLISHED-TTL:PT1H
BEGIN:VTIMEZONE
TZID:Europe/London
BEGIN:DAYLIGHT
TZOFFSETFROM:+0000
TZOFFSETTO:+0100
TZNAME:BST
DTSTART:20250330T010000
END:DAYLIGHT
BEGIN:STANDARD
TZOFFSETFROM:+0100
TZOFFSETTO:+0000
TZNAME:GMT
DTSTART:20251026T010000
END:STANDARD
BEGIN:DAYLIGHT
TZOFFSETFROM:+0000
TZOFFSETTO:+0100
TZNAME:BST
DTSTART:20260329T010000
END:DAYLIGHT
BEGIN:STANDARD
TZOFFSETFROM:+0100
TZOFFSETTO:+0000
TZNAME:GMT
DTSTART:20261025T010000
END:STANDARD
BEGIN:DAYLIGHT
TZOFFSETFROM:+0000
TZOFFSETTO:+0100
TZNAME:BST
DTSTART:20270328T010000
END:DAYLIGHT
BEGIN:STANDARD
TZOFFSETFROM:+0100
TZOFFSETTO:+0000
TZNAME:GMT
DTSTART:20271031T010000
END:STANDARD
END:VTIMEZONE
BEGIN:VEVENT
DTSTART;TZID=Europe/London:20260316T080000
DTEND;TZID=Europe/London:20260327T170000
DTSTAMP:20260426T030641
CREATED:20260218T161443Z
LAST-MODIFIED:20260218T161706Z
UID:7088-1773648000-1774630800@climate-hive.org
SUMMARY:Sustainable Solutions Match 2026
DESCRIPTION:SustainableSolutionsMatch 2026 is a online European matchmaking and knowledge-sharing virtual event connecting solution seekers with innovators advancing sustainability and circularity across industries. Organised by the Enterprise Europe Network and Up2Circ\, with the support from the European Commission\, the event brings together entrepreneurs\, startups\, SMEs and support organisations from across Europe and beyond. \n\n\n\nTaking place from 16 to 27 March 2026\, the programme offers participants access to targeted pitching sessions\, matchmaking opportunities and expert insights on sustainable business models\, circular innovation and EU support mechanisms. This event will create a practical platform for organisations seeking to navigate the sustainability transition and translate innovation into scalable\, market-ready solutions. \n\n\n\nAmong the many sessions and matchmaking activities taking place throughout the event\, Climate KIC is contributing to the specific session: Powering SMEs towards sustainable growth
URL:https://climate-hive.org/fr/event/sustainablesolutionsmatch-2026/
CATEGORIES:Conference,Networking,Online
ATTACH;FMTTYPE=image/jpeg:https://climate-hive.org/wp-content/uploads/2026/02/getty-images-IzlcPiykAok-unsplash-2100x1400-1.jpg
END:VEVENT
END:VCALENDAR