BEGIN:VCALENDAR
VERSION:2.0
PRODID:-//Climate Hive | Climate KIC Community Platform - ECPv6.15.15//NONSGML v1.0//EN
CALSCALE:GREGORIAN
METHOD:PUBLISH
X-WR-CALNAME:Climate Hive | Climate KIC Community Platform
X-ORIGINAL-URL:https://climate-hive.org/it
X-WR-CALDESC:Eventi per Climate Hive | Climate KIC Community Platform
REFRESH-INTERVAL;VALUE=DURATION:PT1H
X-Robots-Tag:noindex
X-PUBLISHED-TTL:PT1H
BEGIN:VTIMEZONE
TZID:Europe/Ljubljana
BEGIN:DAYLIGHT
TZOFFSETFROM:+0100
TZOFFSETTO:+0200
TZNAME:CEST
DTSTART:20250330T010000
END:DAYLIGHT
BEGIN:STANDARD
TZOFFSETFROM:+0200
TZOFFSETTO:+0100
TZNAME:CET
DTSTART:20251026T010000
END:STANDARD
BEGIN:DAYLIGHT
TZOFFSETFROM:+0100
TZOFFSETTO:+0200
TZNAME:CEST
DTSTART:20260329T010000
END:DAYLIGHT
BEGIN:STANDARD
TZOFFSETFROM:+0200
TZOFFSETTO:+0100
TZNAME:CET
DTSTART:20261025T010000
END:STANDARD
BEGIN:DAYLIGHT
TZOFFSETFROM:+0100
TZOFFSETTO:+0200
TZNAME:CEST
DTSTART:20270328T010000
END:DAYLIGHT
BEGIN:STANDARD
TZOFFSETFROM:+0200
TZOFFSETTO:+0100
TZNAME:CET
DTSTART:20271031T010000
END:STANDARD
END:VTIMEZONE
BEGIN:VEVENT
DTSTART;TZID=Europe/Ljubljana:20260312T083000
DTEND;TZID=Europe/Ljubljana:20260312T160000
DTSTAMP:20260425T193838
CREATED:20260310T164224Z
LAST-MODIFIED:20260310T164307Z
UID:7187-1773304200-1773331200@climate-hive.org
SUMMARY:Transferring circularity to Eastern Europe: From strategy to real impact
DESCRIPTION:The conference “Transferring Circularity to Eastern Europe: From Strategy to Real Impact” will take place on 12 March 2026 in Ljubljana\, Slovenia\, in a hybrid format allowing both in-person and online participation. The event is organised by Interreg CENTRAL EUROPE\, a European Union funding programme that supports transnational cooperation across Central Europe. \n\n\n\nBringing together policymakers\, industry representatives\, innovation actors and project partners\, the conference will explore how circular economy principles can move from policy ambition to practical implementation across Eastern Europe. Participants will discuss how European cooperation\, digital tools and regional initiatives can help translate circular economy strategies into concrete action and strengthen more resource-efficient and resilient economic systems across the region. \n\n\n\nClimate KIC will contribute to the programme through a presentation by Marco Antonio Segovia Bifarini\, titled “Circularity in Eastern Europe: Strategic Outlook”\, which brings together policy experts\, regional actors and innovation leaders to discuss how circular economy strategies can be strengthened across the region. \n\n\n\nIn his contribution\, Marco will explore why circular economy in Eastern Europe requires a strategic rethink and what lessons can be drawn from the Deep Demonstration in Slovenia. This place-based initiative has brought together policymakers\, businesses and research organisations to experiment with new approaches to circular innovation\, helping to translate strategy into concrete action.
URL:https://climate-hive.org/it/event/transferring-circularity-to-eastern-europe-from-strategy-to-real-impact/
CATEGORIES:In-person,Learning,Networking,Online,Policy
ATTACH;FMTTYPE=image/jpeg:https://climate-hive.org/wp-content/uploads/2026/03/alex-shuper-dqj8J7kHpHU-unsplash.jpg
END:VEVENT
END:VCALENDAR