BEGIN:VCALENDAR
VERSION:2.0
PRODID:-//Climate Hive | Climate KIC Community Platform - ECPv6.15.15//NONSGML v1.0//EN
CALSCALE:GREGORIAN
METHOD:PUBLISH
X-ORIGINAL-URL:https://climate-hive.org
X-WR-CALDESC:Events for Climate Hive | Climate KIC Community Platform
REFRESH-INTERVAL;VALUE=DURATION:PT1H
X-Robots-Tag:noindex
X-PUBLISHED-TTL:PT1H
BEGIN:VTIMEZONE
TZID:Europe/London
BEGIN:DAYLIGHT
TZOFFSETFROM:+0000
TZOFFSETTO:+0100
TZNAME:BST
DTSTART:20240331T010000
END:DAYLIGHT
BEGIN:STANDARD
TZOFFSETFROM:+0100
TZOFFSETTO:+0000
TZNAME:GMT
DTSTART:20241027T010000
END:STANDARD
BEGIN:DAYLIGHT
TZOFFSETFROM:+0000
TZOFFSETTO:+0100
TZNAME:BST
DTSTART:20250330T010000
END:DAYLIGHT
BEGIN:STANDARD
TZOFFSETFROM:+0100
TZOFFSETTO:+0000
TZNAME:GMT
DTSTART:20251026T010000
END:STANDARD
BEGIN:DAYLIGHT
TZOFFSETFROM:+0000
TZOFFSETTO:+0100
TZNAME:BST
DTSTART:20260329T010000
END:DAYLIGHT
BEGIN:STANDARD
TZOFFSETFROM:+0100
TZOFFSETTO:+0000
TZNAME:GMT
DTSTART:20261025T010000
END:STANDARD
END:VTIMEZONE
BEGIN:VEVENT
DTSTART;TZID=Europe/London:20251205T090000
DTEND;TZID=Europe/London:20251207T170000
DTSTAMP:20260426T002532
CREATED:20251113T162612Z
LAST-MODIFIED:20251113T162915Z
UID:10000061-1764925200-1765126800@climate-hive.org
SUMMARY:Climathon Riga 2025
DESCRIPTION:Climathon is an international annual initiative organized by Climate KIC in multiple countries. Its goal is to create innovative solutions for mitigating climate change\, focusing on the needs of cities and communities. This year’s hackathon is dedicated to two main themes: circular economy and green mobility. Together with our partners\, we invite you to come up with ideas that help reduce the ecological footprint of cities and promote a sustainable quality of life. \n\n\n\n📅 December 5–7\, 2025 \n\n\n\n📍Online and at the RTU Science and Innovation Center (ZIC)\, 2nd floor\, conference hall The Moon\, Ķīpsalas iela 6A \n\n\n\n\nRegister\n\n\n\n\n\n\n\n\n💡 What is Climathon? \n\n\n\n🌱 A Climate KIC initiative that brings together more than 65 countries🏙️ Focused on solving real challenges in cities and communities🔄 This year’s focus: circular economy and green mobility🤝 In collaboration with EIT Urban Mobility🚀 The goal: to promote sustainable\, efficient and environmentally friendly urban development \n\n\n\n🎯 Why participate? \n\n\n\n💰 Financial support for the development and implementation of ideas👩‍🏫 Support from experts and mentors from various industries🌐 New contacts and opportunities for cooperation🧩 A practical platform for continuing ideas after the hackathon🇱🇻 An opportunity to create solutions that are important for Latvia’s sustainable development \n\n\n\n👥 Who can participate? \n\n\n\n🎓 Students\, researchers\, lecturers💼 Company representatives\, start-up entrepreneurs\, designers\, programmers\, business and finance specialists💡 Anyone aged 18 or older who has innovative ideas🌍 Open to participants from all over Latvia – no previous experience necessary👩‍🔬 It is recommended that teams include participants from different fields \n\n\n\n👥 How to apply? \n\n\n\n👨‍💻 As a team: up to 6 people\, incomplete teams can also apply🙋‍♀️ Individually: apply with your skills\, we will help you find a team \n\n\n\n\nRegister\n\n\n\n\n\n\n\n\n✨ Join Climathon and generate ideas for a greener and more sustainable future for cities!
URL:https://climate-hive.org/event/climathon-riga-2025/
LOCATION:Riga Technical University Science and Innovation Center (ZIC)\, Riga\, Latvia
CATEGORIES:Climathon,In-person,Networking,Online
ATTACH;FMTTYPE=image/jpeg:https://climate-hive.org/wp-content/uploads/2025/11/darya-tryfanava-uft-MemToy0-unsplash-scaled.jpg
END:VEVENT
END:VCALENDAR