BEGIN:VCALENDAR
VERSION:2.0
PRODID:-//Climate Hive | Climate KIC Community Platform - ECPv6.15.15//NONSGML v1.0//EN
CALSCALE:GREGORIAN
METHOD:PUBLISH
X-WR-CALNAME:Climate Hive | Climate KIC Community Platform
X-ORIGINAL-URL:https://climate-hive.org
X-WR-CALDESC:Events for Climate Hive | Climate KIC Community Platform
REFRESH-INTERVAL;VALUE=DURATION:PT1H
X-Robots-Tag:noindex
X-PUBLISHED-TTL:PT1H
BEGIN:VTIMEZONE
TZID:Europe/London
BEGIN:DAYLIGHT
TZOFFSETFROM:+0000
TZOFFSETTO:+0100
TZNAME:BST
DTSTART:20250330T010000
END:DAYLIGHT
BEGIN:STANDARD
TZOFFSETFROM:+0100
TZOFFSETTO:+0000
TZNAME:GMT
DTSTART:20251026T010000
END:STANDARD
BEGIN:DAYLIGHT
TZOFFSETFROM:+0000
TZOFFSETTO:+0100
TZNAME:BST
DTSTART:20260329T010000
END:DAYLIGHT
BEGIN:STANDARD
TZOFFSETFROM:+0100
TZOFFSETTO:+0000
TZNAME:GMT
DTSTART:20261025T010000
END:STANDARD
BEGIN:DAYLIGHT
TZOFFSETFROM:+0000
TZOFFSETTO:+0100
TZNAME:BST
DTSTART:20270328T010000
END:DAYLIGHT
BEGIN:STANDARD
TZOFFSETFROM:+0100
TZOFFSETTO:+0000
TZNAME:GMT
DTSTART:20271031T010000
END:STANDARD
END:VTIMEZONE
BEGIN:VEVENT
DTSTART;TZID=Europe/London:20260319T033500
DTEND;TZID=Europe/London:20260319T154500
DTSTAMP:20260425T210446
CREATED:20260306T101324Z
LAST-MODIFIED:20260306T101328Z
UID:10000084-1773891300-1773935100@climate-hive.org
SUMMARY:Circular supply chains: Transforming critical materials into strategic advantage
DESCRIPTION:In this session at the Future of Utilities conference in Amsterdam\, Alberto Ogura\, Industry Decarbonisation Lead at Climate KIC\, will explore how circular supply chains can help address one of the major structural challenges facing the energy transition: access to critical raw materials. As demand grows for technologies such as batteries\, renewable energy infrastructure and electric mobility\, securing sustainable and resilient supply chains is becoming increasingly strategic. \n\n\n\nDrawing on Climate KIC’s work with partners including Pyxera Global\, the keynote will highlight how the Circular Supply Chain Coalition is expanding its activities in Europe. The initiative brings together industry actors to advance circular design\, resource recovery and new collaboration models that strengthen resilience while reducing environmental impacts. \n\n\n\nThe session will examine how circular approaches to materials management can turn resource constraints into opportunities for long-term innovation\, competitiveness and sustainability across Europe’s energy and industrial systems. \n\n\n\n\n\nClimate KIC is also offering an exclusive discount code for the event tickets only for Community members. Contact us to receive the code. \n\n\n\n\nCONTACT US
URL:https://climate-hive.org/event/circular-supply-chains-transforming-critical-materials-into-strategic-advantage/
LOCATION:Sugarfactory\, Amsterdam\, Netherlands
CATEGORIES:Conference,In-person,Info Session,Learning,Organised by Climate KIC
ATTACH;FMTTYPE=image/jpeg:https://climate-hive.org/wp-content/uploads/2026/03/getty-images-l1v6ilWXkc4-unsplash-1.jpg
ORGANIZER;CN="Climate KIC":MAILTO:community@climate-kic.org
END:VEVENT
BEGIN:VEVENT
DTSTART;TZID=Europe/London:20260318T080000
DTEND;TZID=Europe/London:20260319T200000
DTSTAMP:20260425T210446
CREATED:20260306T100306Z
LAST-MODIFIED:20260306T101355Z
UID:10000083-1773820800-1773950400@climate-hive.org
SUMMARY:Future of Utilities: Energy Transition Summit 2026
DESCRIPTION:The Future of Utilities: Energy Transition Summit 2026 brings together Europe’s energy leaders to discuss how to deliver the energy transition in today’s rapidly changing world. Taking place in Amsterdam on 18-19 March 2026\, the summit convenes grid operators\, utilities\, investors\, technology providers and policymakers to explore practical pathways for moving from climate ambition to implementation. \n\n\n\nParticipants will examine how Europe’s energy system is evolving in response to growing demand for renewable energy\, grid modernisation\, digitalisation and new forms of flexibility. Sessions will focus on scaling solutions across the energy value chain\, from financing generation and integrating storage to managing market volatility and accelerating industrial decarbonisation. \n\n\n\nClimate KIC is also offering an exclusive discount code for the event tickets only for Community members. Contact us to receive the code. \n\n\n\n\nCONTACT US\n\n\n\n\nClimate KIC will contribute to the programme through a keynote presentation titled “Circular supply chains: transforming critical materials into strategic advantage” by Alberto Ogura\, Industry Lead at Climate KIC\, on Day 2 (19 March).
URL:https://climate-hive.org/event/future-of-utilities-energy-transition-summit-2026/
LOCATION:Sugarfactory\, Amsterdam\, Netherlands
CATEGORIES:Conference,In-person,Learning,Networking,Organised by Member / Partner
ATTACH;FMTTYPE=image/jpeg:https://climate-hive.org/wp-content/uploads/2025/11/windfarm_offshore-scaled.jpg
END:VEVENT
END:VCALENDAR