BEGIN:VCALENDAR
VERSION:2.0
PRODID:-//Climate Hive | Climate KIC Community Platform - ECPv6.15.15//NONSGML v1.0//EN
CALSCALE:GREGORIAN
METHOD:PUBLISH
X-ORIGINAL-URL:https://climate-hive.org
X-WR-CALDESC:Events for Climate Hive | Climate KIC Community Platform
REFRESH-INTERVAL;VALUE=DURATION:PT1H
X-Robots-Tag:noindex
X-PUBLISHED-TTL:PT1H
BEGIN:VTIMEZONE
TZID:Europe/London
BEGIN:DAYLIGHT
TZOFFSETFROM:+0000
TZOFFSETTO:+0100
TZNAME:BST
DTSTART:20240331T010000
END:DAYLIGHT
BEGIN:STANDARD
TZOFFSETFROM:+0100
TZOFFSETTO:+0000
TZNAME:GMT
DTSTART:20241027T010000
END:STANDARD
BEGIN:DAYLIGHT
TZOFFSETFROM:+0000
TZOFFSETTO:+0100
TZNAME:BST
DTSTART:20250330T010000
END:DAYLIGHT
BEGIN:STANDARD
TZOFFSETFROM:+0100
TZOFFSETTO:+0000
TZNAME:GMT
DTSTART:20251026T010000
END:STANDARD
BEGIN:DAYLIGHT
TZOFFSETFROM:+0000
TZOFFSETTO:+0100
TZNAME:BST
DTSTART:20260329T010000
END:DAYLIGHT
BEGIN:STANDARD
TZOFFSETFROM:+0100
TZOFFSETTO:+0000
TZNAME:GMT
DTSTART:20261025T010000
END:STANDARD
END:VTIMEZONE
BEGIN:VEVENT
DTSTART;TZID=Europe/London:20251114T090000
DTEND;TZID=Europe/London:20251114T180000
DTSTAMP:20260426T031318
CREATED:20251111T124823Z
LAST-MODIFIED:20251111T132359Z
UID:10000056-1763110800-1763143200@climate-hive.org
SUMMARY:The Innovation Exchange: Accelerating Smart Growth
DESCRIPTION:This high-level event will gather 120 participants from government\, academia\, industry\, and the start-up ecosystem to explore how Malta’s Vision 2050 can align with opportunities emerging from the European Institute of Innovation and Technology (EIT) Knowledge and Innovation Communities. \nYou are invited to register your attendance here. \nHighlights of the day include: \n\nKeynote Addresses from leading figures in European and national innovation ecosystems.\nPanel Discussions moderated by renowned experts including Mark Laurence Zammit\, Trudy Kerr\, and Jon Mallia\, covering:\n\nInnovating for a Greener Future\nEmpowering Communities through Social Wellness Innovation\nSmart Growth through Innovation\n\n\nInteractive Exhibition Stands showcasing projects\, start-ups\, and solutions shaping Malta’s innovation future.\nSpotlight on EIT Urban Mobility including demonstrations on how innovation can tangibly solve societal problems\nNetworking drinks and Deep Tech evening sponsored by the Deep Tech Foundry\n\nThe event is organised by the EIT Community Hub Malta\, powered by BusinessLabs & Hatch\, and supported by EIT Urban Mobility. \nJoin as we exchange ideas\, ignite collaborations\, and accelerate Malta’s journey toward a greener\, socially empowered and economically resilient future through innovation.
URL:https://climate-hive.org/event/the-innovation-exchange-accelerating-smart-growth/
LOCATION:Villa Arrigo\, Malta\, Malta
CATEGORIES:Conference
ATTACH;FMTTYPE=image/jpeg:https://climate-hive.org/wp-content/uploads/2025/11/micaela-parente-Jd2XVXLQ0U-unsplash-scaled.jpg
ORGANIZER;CN="EIT Community Hub Malta":MAILTO:malta@eitcommunity.eu
END:VEVENT
END:VCALENDAR